Package: MouseFM Version: 1.18.0 Command: /home/biocbuild/R/R/bin/R CMD build --keep-empty-dirs --no-resave-data MouseFM StartedAt: 2025-09-30 03:24:40 -0000 (Tue, 30 Sep 2025) EndedAt: 2025-09-30 03:25:54 -0000 (Tue, 30 Sep 2025) EllapsedTime: 74.0 seconds RetCode: 0 Status: OK PackageFile: MouseFM_1.18.0.tar.gz PackageFileSize: 828.9 KiB