Package: MotifPeeker Version: 1.2.0 Command: /home/biocbuild/bbs-3.22-bioc/R/bin/R CMD INSTALL MotifPeeker StartedAt: 2025-11-02 15:38:53 -0500 (Sun, 02 Nov 2025) EndedAt: 2025-11-02 15:39:56 -0500 (Sun, 02 Nov 2025) EllapsedTime: 62.4 seconds RetCode: 0 Status: OK