Package: MotifPeeker Version: 1.2.0 Command: /home/biocbuild/bbs-3.22-bioc/R/bin/R CMD build --keep-empty-dirs --no-resave-data --md5 MotifPeeker StartedAt: 2025-11-02 19:05:47 -0500 (Sun, 02 Nov 2025) EndedAt: 2025-11-02 19:06:42 -0500 (Sun, 02 Nov 2025) EllapsedTime: 55.0 seconds RetCode: 0 Status: OK PackageFile: MotifPeeker_1.2.0.tar.gz PackageFileSize: 3.358 MiB