Package: MotifDb Version: 1.52.0 Command: /home/biocbuild/bbs-3.22-bioc/R/bin/R CMD INSTALL MotifDb StartedAt: 2025-11-13 15:28:39 -0500 (Thu, 13 Nov 2025) EndedAt: 2025-11-13 15:29:27 -0500 (Thu, 13 Nov 2025) EllapsedTime: 48.4 seconds RetCode: 0 Status: OK