Package: MotifDb Version: 1.52.0 Command: /home/biocbuild/bbs-3.22-bioc/R/bin/R CMD build --keep-empty-dirs --no-resave-data --md5 MotifDb StartedAt: 2025-11-13 18:53:29 -0500 (Thu, 13 Nov 2025) EndedAt: 2025-11-13 18:54:30 -0500 (Thu, 13 Nov 2025) EllapsedTime: 61.1 seconds RetCode: 0 Status: OK PackageFile: MotifDb_1.52.0.tar.gz PackageFileSize: 4.18 MiB