Package: MotifDb Version: 1.52.0 Command: /Library/Frameworks/R.framework/Resources/bin/R CMD INSTALL MotifDb StartedAt: 2025-11-10 15:16:48 -0500 (Mon, 10 Nov 2025) EndedAt: 2025-11-10 15:17:05 -0500 (Mon, 10 Nov 2025) EllapsedTime: 16.7 seconds RetCode: 0 Status: OK