Package: MotifDb Version: 1.52.0 Command: /Library/Frameworks/R.framework/Resources/bin/R CMD build --keep-empty-dirs --no-resave-data MotifDb StartedAt: 2025-11-10 17:06:47 -0500 (Mon, 10 Nov 2025) EndedAt: 2025-11-10 17:07:12 -0500 (Mon, 10 Nov 2025) EllapsedTime: 25.3 seconds RetCode: 0 Status: OK PackageFile: MotifDb_1.52.0.tar.gz PackageFileSize: 4.237 MiB