Package: MotifDb Version: 1.52.0 Command: rm -rf MotifDb.buildbin-libdir && mkdir MotifDb.buildbin-libdir && /Users/biocbuild/BBS/utils/build-universal.sh MotifDb_1.52.0.tar.gz /Library/Frameworks/R.framework/Resources/bin/R MotifDb.buildbin-libdir StartedAt: 2025-11-10 23:27:56 -0500 (Mon, 10 Nov 2025) EndedAt: 2025-11-10 23:28:14 -0500 (Mon, 10 Nov 2025) EllapsedTime: 18.3 seconds RetCode: 0 Status: OK PackageFile: MotifDb_1.52.0.tgz PackageFileSize: 4.553 MiB