Package: MoonlightR Version: 1.36.0 Command: /home/biocbuild/bbs-3.22-bioc/R/bin/R CMD INSTALL MoonlightR StartedAt: 2025-11-11 15:54:57 -0500 (Tue, 11 Nov 2025) EndedAt: 2025-11-11 15:55:51 -0500 (Tue, 11 Nov 2025) EllapsedTime: 54.3 seconds RetCode: 0 Status: OK