Package: MoonlightR Version: 1.36.0 Command: /Library/Frameworks/R.framework/Resources/bin/R CMD INSTALL MoonlightR StartedAt: 2025-11-03 15:50:24 -0500 (Mon, 03 Nov 2025) EndedAt: 2025-11-03 15:51:50 -0500 (Mon, 03 Nov 2025) EllapsedTime: 86.4 seconds RetCode: 0 Status: OK