Package: MoonlightR Version: 1.36.0 Command: /Library/Frameworks/R.framework/Resources/bin/R CMD build --keep-empty-dirs --no-resave-data MoonlightR StartedAt: 2025-11-03 17:49:54 -0500 (Mon, 03 Nov 2025) EndedAt: 2025-11-03 17:53:31 -0500 (Mon, 03 Nov 2025) EllapsedTime: 217.4 seconds RetCode: 0 Status: OK PackageFile: MoonlightR_1.36.0.tar.gz PackageFileSize: 15.56 MiB