Package: MoonlightR Version: 1.34.0 Command: /home/biocbuild/R/R/bin/R CMD INSTALL MoonlightR StartedAt: 2025-10-06 21:10:33 -0000 (Mon, 06 Oct 2025) EndedAt: 2025-10-06 21:11:40 -0000 (Mon, 06 Oct 2025) EllapsedTime: 67.2 seconds RetCode: 0 Status: OK