Package: MoonlightR Version: 1.34.0 Command: /home/biocbuild/R/R/bin/R CMD build --keep-empty-dirs --no-resave-data MoonlightR StartedAt: 2025-10-07 02:45:19 -0000 (Tue, 07 Oct 2025) EndedAt: 2025-10-07 02:47:56 -0000 (Tue, 07 Oct 2025) EllapsedTime: 157.0 seconds RetCode: 0 Status: OK PackageFile: MoonlightR_1.34.0.tar.gz PackageFileSize: 14.78 MiB