Package: MoonlightR Version: 1.36.0 Command: /Library/Frameworks/R.framework/Resources/bin/R CMD INSTALL MoonlightR StartedAt: 2025-11-10 15:26:39 -0500 (Mon, 10 Nov 2025) EndedAt: 2025-11-10 15:27:05 -0500 (Mon, 10 Nov 2025) EllapsedTime: 25.2 seconds RetCode: 0 Status: OK