Package: MoonlightR Version: 1.36.0 Command: /Library/Frameworks/R.framework/Resources/bin/R CMD build --keep-empty-dirs --no-resave-data MoonlightR StartedAt: 2025-11-10 17:05:34 -0500 (Mon, 10 Nov 2025) EndedAt: 2025-11-10 17:06:31 -0500 (Mon, 10 Nov 2025) EllapsedTime: 56.6 seconds RetCode: 0 Status: OK PackageFile: MoonlightR_1.36.0.tar.gz PackageFileSize: 15.56 MiB