Package: MoonlightR Version: 1.36.0 Command: rm -rf MoonlightR.buildbin-libdir && mkdir MoonlightR.buildbin-libdir && /Users/biocbuild/BBS/utils/build-universal.sh MoonlightR_1.36.0.tar.gz /Library/Frameworks/R.framework/Resources/bin/R MoonlightR.buildbin-libdir StartedAt: 2025-11-10 23:27:48 -0500 (Mon, 10 Nov 2025) EndedAt: 2025-11-10 23:28:26 -0500 (Mon, 10 Nov 2025) EllapsedTime: 38.8 seconds RetCode: 0 Status: OK PackageFile: MoonlightR_1.36.0.tgz PackageFileSize: 9.923 MiB