Package: Moonlight2R Version: 1.8.0 Command: /home/biocbuild/bbs-3.22-bioc/R/bin/R CMD INSTALL Moonlight2R StartedAt: 2025-11-11 15:53:09 -0500 (Tue, 11 Nov 2025) EndedAt: 2025-11-11 15:54:01 -0500 (Tue, 11 Nov 2025) EllapsedTime: 52.3 seconds RetCode: 0 Status: OK