Package: Moonlight2R Version: 1.6.3 Command: /home/biocbuild/R/R/bin/R CMD build --keep-empty-dirs --no-resave-data Moonlight2R StartedAt: 2025-10-14 02:40:46 -0000 (Tue, 14 Oct 2025) EndedAt: 2025-10-14 02:45:37 -0000 (Tue, 14 Oct 2025) EllapsedTime: 291.1 seconds RetCode: 1 Status: ERROR PackageFile: None PackageFileSize: NA