Package: MoleculeExperiment Version: 1.10.0 Command: /home/biocbuild/bbs-3.22-bioc/R/bin/R CMD build --keep-empty-dirs --no-resave-data --md5 MoleculeExperiment StartedAt: 2025-11-11 18:53:13 -0500 (Tue, 11 Nov 2025) EndedAt: 2025-11-11 18:55:03 -0500 (Tue, 11 Nov 2025) EllapsedTime: 110.1 seconds RetCode: 0 Status: OK PackageFile: MoleculeExperiment_1.10.0.tar.gz PackageFileSize: 15.59 MiB