Package: MoleculeExperiment Version: 1.8.0 Command: /home/biocbuild/bbs-3.21-bioc/R/bin/R CMD INSTALL MoleculeExperiment StartedAt: 2025-10-15 15:22:47 -0400 (Wed, 15 Oct 2025) EndedAt: 2025-10-15 15:23:28 -0400 (Wed, 15 Oct 2025) EllapsedTime: 41.1 seconds RetCode: 0 Status: OK