Package: MoleculeExperiment Version: 1.8.0 Command: /home/biocbuild/bbs-3.21-bioc/R/bin/R CMD build --keep-empty-dirs --no-resave-data MoleculeExperiment StartedAt: 2025-10-15 18:37:20 -0400 (Wed, 15 Oct 2025) EndedAt: 2025-10-15 18:39:10 -0400 (Wed, 15 Oct 2025) EllapsedTime: 110.1 seconds RetCode: 0 Status: OK PackageFile: MoleculeExperiment_1.8.0.tar.gz PackageFileSize: 15.59 MiB