Package: MoleculeExperiment Version: 1.10.0 Command: /Library/Frameworks/R.framework/Resources/bin/R CMD build --keep-empty-dirs --no-resave-data MoleculeExperiment StartedAt: 2025-10-31 17:53:04 -0400 (Fri, 31 Oct 2025) EndedAt: 2025-10-31 17:55:35 -0400 (Fri, 31 Oct 2025) EllapsedTime: 151.4 seconds RetCode: 0 Status: OK PackageFile: MoleculeExperiment_1.10.0.tar.gz PackageFileSize: 15.85 MiB