Package: MoleculeExperiment Version: 1.10.0 Command: rm -rf MoleculeExperiment.buildbin-libdir && mkdir MoleculeExperiment.buildbin-libdir && /Users/biocbuild/BBS/utils/build-universal.sh MoleculeExperiment_1.10.0.tar.gz /Library/Frameworks/R.framework/Resources/bin/R MoleculeExperiment.buildbin-libdir StartedAt: 2025-11-04 01:50:49 -0500 (Tue, 04 Nov 2025) EndedAt: 2025-11-04 01:51:50 -0500 (Tue, 04 Nov 2025) EllapsedTime: 61.0 seconds RetCode: 0 Status: OK PackageFile: MoleculeExperiment_1.10.0.tgz PackageFileSize: 12.59 MiB