Package: MoleculeExperiment Version: 1.8.0 Command: /home/biocbuild/R/R/bin/R CMD build --keep-empty-dirs --no-resave-data MoleculeExperiment StartedAt: 2025-10-03 02:41:23 -0000 (Fri, 03 Oct 2025) EndedAt: 2025-10-03 02:43:59 -0000 (Fri, 03 Oct 2025) EllapsedTime: 156.0 seconds RetCode: 0 Status: OK PackageFile: MoleculeExperiment_1.8.0.tar.gz PackageFileSize: 15.43 MiB