Package: MoleculeExperiment Version: 1.8.0 Command: /Library/Frameworks/R.framework/Resources/bin/R CMD INSTALL MoleculeExperiment StartedAt: 2025-10-13 16:30:43 -0400 (Mon, 13 Oct 2025) EndedAt: 2025-10-13 16:31:30 -0400 (Mon, 13 Oct 2025) EllapsedTime: 47.3 seconds RetCode: 0 Status: OK