Package: MoleculeExperiment Version: 1.8.0 Command: /Library/Frameworks/R.framework/Resources/bin/R CMD build --keep-empty-dirs --no-resave-data MoleculeExperiment StartedAt: 2025-10-14 04:48:26 -0400 (Tue, 14 Oct 2025) EndedAt: 2025-10-14 04:50:38 -0400 (Tue, 14 Oct 2025) EllapsedTime: 131.5 seconds RetCode: 0 Status: OK PackageFile: MoleculeExperiment_1.8.0.tar.gz PackageFileSize: 15.85 MiB