Package: Modstrings Version: 1.26.0 Command: /home/biocbuild/R/R/bin/R CMD check --install=check:Modstrings.install-out.txt --library=/home/biocbuild/R/R/site-library --no-vignettes --timings Modstrings_1.26.0.tar.gz StartedAt: 2025-11-14 11:43:22 -0000 (Fri, 14 Nov 2025) EndedAt: 2025-11-14 11:46:16 -0000 (Fri, 14 Nov 2025) EllapsedTime: 174.3 seconds RetCode: 0 Status: OK CheckDir: Modstrings.Rcheck Warnings: 0