Package: Modstrings Version: 1.26.0 Command: /home/biocbuild/R/R/bin/R CMD build --keep-empty-dirs --no-resave-data Modstrings StartedAt: 2025-11-11 03:23:30 -0000 (Tue, 11 Nov 2025) EndedAt: 2025-11-11 03:24:09 -0000 (Tue, 11 Nov 2025) EllapsedTime: 39.0 seconds RetCode: 0 Status: OK PackageFile: Modstrings_1.26.0.tar.gz PackageFileSize: 952.5 KiB