Package: Modstrings Version: 1.26.0 Command: /home/biocbuild/bbs-3.22-bioc/R/bin/R CMD INSTALL Modstrings StartedAt: 2025-11-11 15:20:09 -0500 (Tue, 11 Nov 2025) EndedAt: 2025-11-11 15:20:26 -0500 (Tue, 11 Nov 2025) EllapsedTime: 16.5 seconds RetCode: 0 Status: OK