Package: Modstrings Version: 1.26.0 Command: /home/biocbuild/bbs-3.22-bioc/R/bin/R CMD build --keep-empty-dirs --no-resave-data --md5 Modstrings StartedAt: 2025-11-11 18:52:44 -0500 (Tue, 11 Nov 2025) EndedAt: 2025-11-11 18:53:16 -0500 (Tue, 11 Nov 2025) EllapsedTime: 32.0 seconds RetCode: 0 Status: OK PackageFile: Modstrings_1.26.0.tar.gz PackageFileSize: 826.4 KiB