Package: Modstrings Version: 1.24.0 Command: /home/biocbuild/R/R/bin/R CMD INSTALL Modstrings StartedAt: 2025-09-25 20:28:49 -0000 (Thu, 25 Sep 2025) EndedAt: 2025-09-25 20:29:14 -0000 (Thu, 25 Sep 2025) EllapsedTime: 24.6 seconds RetCode: 0 Status: OK