Package: Modstrings Version: 1.24.0 Command: /home/biocbuild/R/R/bin/R CMD check --install=check:Modstrings.install-out.txt --library=/home/biocbuild/R/R/site-library --no-vignettes --timings Modstrings_1.24.0.tar.gz StartedAt: 2025-09-26 12:48:29 -0000 (Fri, 26 Sep 2025) EndedAt: 2025-09-26 12:51:22 -0000 (Fri, 26 Sep 2025) EllapsedTime: 173.2 seconds RetCode: 0 Status: OK CheckDir: Modstrings.Rcheck Warnings: 0