Package: Modstrings Version: 1.24.0 Command: /home/biocbuild/R/R/bin/R CMD build --keep-empty-dirs --no-resave-data Modstrings StartedAt: 2025-09-26 04:02:15 -0000 (Fri, 26 Sep 2025) EndedAt: 2025-09-26 04:02:56 -0000 (Fri, 26 Sep 2025) EllapsedTime: 41.0 seconds RetCode: 0 Status: OK PackageFile: Modstrings_1.24.0.tar.gz PackageFileSize: 952.4 KiB