Package: ModCon Version: 1.18.0 Command: /home/biocbuild/R/R/bin/R CMD check --install=check:ModCon.install-out.txt --library=/home/biocbuild/R/R/site-library --no-vignettes --timings ModCon_1.18.0.tar.gz StartedAt: 2025-11-11 11:55:12 -0000 (Tue, 11 Nov 2025) EndedAt: 2025-11-11 12:00:44 -0000 (Tue, 11 Nov 2025) EllapsedTime: 331.4 seconds RetCode: 0 Status: OK CheckDir: ModCon.Rcheck Warnings: 0