Package: ModCon Version: 1.16.0 Command: /home/biocbuild/R/R/bin/R CMD INSTALL ModCon StartedAt: 2025-09-25 20:13:33 -0000 (Thu, 25 Sep 2025) EndedAt: 2025-09-25 20:13:43 -0000 (Thu, 25 Sep 2025) EllapsedTime: 10.4 seconds RetCode: 0 Status: OK