Package: ModCon Version: 1.16.0 Command: /home/biocbuild/R/R/bin/R CMD check --install=check:ModCon.install-out.txt --library=/home/biocbuild/R/R/site-library --no-vignettes --timings ModCon_1.16.0.tar.gz StartedAt: 2025-09-26 12:48:04 -0000 (Fri, 26 Sep 2025) EndedAt: 2025-09-26 12:53:57 -0000 (Fri, 26 Sep 2025) EllapsedTime: 353.4 seconds RetCode: 0 Status: OK CheckDir: ModCon.Rcheck Warnings: 0