Package: ModCon Version: 1.16.0 Command: /home/biocbuild/R/R/bin/R CMD build --keep-empty-dirs --no-resave-data ModCon StartedAt: 2025-09-26 04:02:14 -0000 (Fri, 26 Sep 2025) EndedAt: 2025-09-26 04:05:02 -0000 (Fri, 26 Sep 2025) EllapsedTime: 168.1 seconds RetCode: 0 Status: OK PackageFile: ModCon_1.16.0.tar.gz PackageFileSize: 1.932 MiB