Package: MinimumDistance Version: 1.54.0 Command: /home/biocbuild/bbs-3.22-bioc/R/bin/R CMD INSTALL MinimumDistance StartedAt: 2025-11-11 15:39:24 -0500 (Tue, 11 Nov 2025) EndedAt: 2025-11-11 15:40:12 -0500 (Tue, 11 Nov 2025) EllapsedTime: 47.9 seconds RetCode: 0 Status: OK