Package: MinimumDistance Version: 1.54.0 Command: /home/biocbuild/bbs-3.22-bioc/R/bin/R CMD build --keep-empty-dirs --no-resave-data --md5 MinimumDistance StartedAt: 2025-11-11 18:48:05 -0500 (Tue, 11 Nov 2025) EndedAt: 2025-11-11 18:49:24 -0500 (Tue, 11 Nov 2025) EllapsedTime: 79.0 seconds RetCode: 0 Status: OK PackageFile: MinimumDistance_1.54.0.tar.gz PackageFileSize: 2.556 MiB