Package: MinimumDistance Version: 1.52.1 Command: /home/biocbuild/bbs-3.21-bioc/R/bin/R CMD build --keep-empty-dirs --no-resave-data MinimumDistance StartedAt: 2025-10-15 18:32:21 -0400 (Wed, 15 Oct 2025) EndedAt: 2025-10-15 18:33:37 -0400 (Wed, 15 Oct 2025) EllapsedTime: 76.0 seconds RetCode: 0 Status: OK PackageFile: MinimumDistance_1.52.1.tar.gz PackageFileSize: 2.553 MiB