Package: MinimumDistance Version: 1.52.1 Command: /home/biocbuild/R/R/bin/R CMD build --keep-empty-dirs --no-resave-data MinimumDistance StartedAt: 2025-09-26 03:54:43 -0000 (Fri, 26 Sep 2025) EndedAt: 2025-09-26 03:56:32 -0000 (Fri, 26 Sep 2025) EllapsedTime: 109.0 seconds RetCode: 0 Status: OK PackageFile: MinimumDistance_1.52.1.tar.gz PackageFileSize: 2.538 MiB