Package: MinimumDistance Version: 1.52.1 Command: /Library/Frameworks/R.framework/Resources/bin/R CMD build --keep-empty-dirs --no-resave-data MinimumDistance StartedAt: 2025-10-14 04:24:52 -0400 (Tue, 14 Oct 2025) EndedAt: 2025-10-14 04:26:32 -0400 (Tue, 14 Oct 2025) EllapsedTime: 99.9 seconds RetCode: 0 Status: OK PackageFile: MinimumDistance_1.52.1.tar.gz PackageFileSize: 2.553 MiB