Package: MinimumDistance Version: 1.52.1 Command: rm -rf MinimumDistance.buildbin-libdir && mkdir MinimumDistance.buildbin-libdir && /Users/biocbuild/BBS/utils/build-universal.sh MinimumDistance_1.52.1.tar.gz /Library/Frameworks/R.framework/Resources/bin/R MinimumDistance.buildbin-libdir StartedAt: 2025-10-15 19:20:35 -0400 (Wed, 15 Oct 2025) EndedAt: 2025-10-15 19:21:36 -0400 (Wed, 15 Oct 2025) EllapsedTime: 60.9 seconds RetCode: 0 Status: OK PackageFile: MinimumDistance_1.52.1.tgz PackageFileSize: 3.656 MiB