Package: MicrobiotaProcess Version: 1.22.0 Command: /home/biocbuild/R/R/bin/R CMD INSTALL MicrobiotaProcess StartedAt: 2025-11-13 21:25:12 -0000 (Thu, 13 Nov 2025) EndedAt: 2025-11-13 21:26:39 -0000 (Thu, 13 Nov 2025) EllapsedTime: 87.0 seconds RetCode: 0 Status: OK