Package: MicrobiotaProcess Version: 1.22.0 Command: /home/biocbuild/R/R/bin/R CMD build --keep-empty-dirs --no-resave-data MicrobiotaProcess StartedAt: 2025-11-14 03:17:37 -0000 (Fri, 14 Nov 2025) EndedAt: 2025-11-14 03:21:37 -0000 (Fri, 14 Nov 2025) EllapsedTime: 240.2 seconds RetCode: 0 Status: OK PackageFile: MicrobiotaProcess_1.22.0.tar.gz PackageFileSize: 3.761 MiB