Package: MicrobiotaProcess Version: 1.22.0 Command: /home/biocbuild/bbs-3.22-bioc/R/bin/R CMD INSTALL MicrobiotaProcess StartedAt: 2025-11-11 15:22:26 -0500 (Tue, 11 Nov 2025) EndedAt: 2025-11-11 15:23:27 -0500 (Tue, 11 Nov 2025) EllapsedTime: 61.8 seconds RetCode: 0 Status: OK