Package: MicrobiotaProcess Version: 1.22.0 Command: /home/biocbuild/bbs-3.22-bioc/R/bin/R CMD check --install=check:MicrobiotaProcess.install-out.txt --library=/home/biocbuild/bbs-3.22-bioc/R/site-library --timings MicrobiotaProcess_1.22.0.tar.gz StartedAt: 2025-11-12 01:31:03 -0500 (Wed, 12 Nov 2025) EndedAt: 2025-11-12 01:38:09 -0500 (Wed, 12 Nov 2025) EllapsedTime: 426.4 seconds RetCode: 0 Status: OK CheckDir: MicrobiotaProcess.Rcheck Warnings: 0