Package: MicrobiotaProcess Version: 1.20.2 Command: /home/biocbuild/bbs-3.21-bioc/R/bin/R CMD build --keep-empty-dirs --no-resave-data MicrobiotaProcess StartedAt: 2025-10-08 18:30:44 -0400 (Wed, 08 Oct 2025) EndedAt: 2025-10-08 18:33:25 -0400 (Wed, 08 Oct 2025) EllapsedTime: 161.1 seconds RetCode: 0 Status: OK PackageFile: MicrobiotaProcess_1.20.2.tar.gz PackageFileSize: 4.835 MiB