Package: MicrobiotaProcess Version: 1.20.2 Maintainer: Shuangbin Xu MaintainerEmail: xshuangbin at 163.com git_url: https://git.bioconductor.org/packages/MicrobiotaProcess git_branch: RELEASE_3_21 git_last_commit: a0e37d8 git_last_commit_date: 2025-09-17 02:26:41 -0400 (Wed, 17 Sep 2025)