Package: MicrobiomeProfiler Version: 1.16.0 Command: /home/biocbuild/R/R/bin/R CMD build --keep-empty-dirs --no-resave-data MicrobiomeProfiler StartedAt: 2025-11-21 03:55:01 -0000 (Fri, 21 Nov 2025) EndedAt: 2025-11-21 03:55:36 -0000 (Fri, 21 Nov 2025) EllapsedTime: 35.0 seconds RetCode: 0 Status: OK PackageFile: MicrobiomeProfiler_1.16.0.tar.gz PackageFileSize: 1.052 MiB